BEGIN:VCALENDAR
VERSION:2.0
PRODID:-//VGM NL - ECPv6.15.20//NONSGML v1.0//EN
CALSCALE:GREGORIAN
METHOD:PUBLISH
X-WR-CALNAME:VGM NL
X-ORIGINAL-URL:https://vgm.nl
X-WR-CALDESC:Evenementen voor VGM NL
REFRESH-INTERVAL;VALUE=DURATION:PT1H
X-Robots-Tag:noindex
X-PUBLISHED-TTL:PT1H
BEGIN:VTIMEZONE
TZID:Europe/Amsterdam
BEGIN:DAYLIGHT
TZOFFSETFROM:+0100
TZOFFSETTO:+0200
TZNAME:CEST
DTSTART:20220327T010000
END:DAYLIGHT
BEGIN:STANDARD
TZOFFSETFROM:+0200
TZOFFSETTO:+0100
TZNAME:CET
DTSTART:20221030T010000
END:STANDARD
BEGIN:DAYLIGHT
TZOFFSETFROM:+0100
TZOFFSETTO:+0200
TZNAME:CEST
DTSTART:20230326T010000
END:DAYLIGHT
BEGIN:STANDARD
TZOFFSETFROM:+0200
TZOFFSETTO:+0100
TZNAME:CET
DTSTART:20231029T010000
END:STANDARD
BEGIN:DAYLIGHT
TZOFFSETFROM:+0100
TZOFFSETTO:+0200
TZNAME:CEST
DTSTART:20240331T010000
END:DAYLIGHT
BEGIN:STANDARD
TZOFFSETFROM:+0200
TZOFFSETTO:+0100
TZNAME:CET
DTSTART:20241027T010000
END:STANDARD
END:VTIMEZONE
BEGIN:VEVENT
DTSTART;TZID=Europe/Amsterdam:20230629T130000
DTEND;TZID=Europe/Amsterdam:20230629T160000
DTSTAMP:20260419T200035
CREATED:20230629T083715Z
LAST-MODIFIED:20230629T083718Z
UID:54005-1688043600-1688054400@vgm.nl
SUMMARY:Informatiebijeenkomst ‘Leidraad brandveilig gebruik woongebouwen’
DESCRIPTION:Het Nederlands Instituut Publieke Veiligheid (NIVP) organiseert van 13.00 tot 16.00 uur een hybride informatiebijeenkomst over de ‘Leidraad brandveilig gebruik woongebouwen’. Tijdens deze gratis bijeenkomst worden de leidraad\, de Elektronische Leeromgeving (ELO) en andere hulpmiddelen toegelicht om gebouweigenaren en gebouwbeheerders zo goed mogelijk te ondersteunen bij het brandveilig beheren van woongebouwen.
URL:https://vgm.nl/evenement/informatiebijeenkomst-leidraad-brandveilig-gebruik-woongebouwen/
END:VEVENT
END:VCALENDAR