BEGIN:VCALENDAR
VERSION:2.0
PRODID:-//VGM NL - ECPv6.15.20//NONSGML v1.0//EN
CALSCALE:GREGORIAN
METHOD:PUBLISH
X-WR-CALNAME:VGM NL
X-ORIGINAL-URL:https://vgm.nl
X-WR-CALDESC:Evenementen voor VGM NL
REFRESH-INTERVAL;VALUE=DURATION:PT1H
X-Robots-Tag:noindex
X-PUBLISHED-TTL:PT1H
BEGIN:VTIMEZONE
TZID:Europe/Amsterdam
BEGIN:DAYLIGHT
TZOFFSETFROM:+0100
TZOFFSETTO:+0200
TZNAME:CEST
DTSTART:20220327T010000
END:DAYLIGHT
BEGIN:STANDARD
TZOFFSETFROM:+0200
TZOFFSETTO:+0100
TZNAME:CET
DTSTART:20221030T010000
END:STANDARD
BEGIN:DAYLIGHT
TZOFFSETFROM:+0100
TZOFFSETTO:+0200
TZNAME:CEST
DTSTART:20230326T010000
END:DAYLIGHT
BEGIN:STANDARD
TZOFFSETFROM:+0200
TZOFFSETTO:+0100
TZNAME:CET
DTSTART:20231029T010000
END:STANDARD
BEGIN:DAYLIGHT
TZOFFSETFROM:+0100
TZOFFSETTO:+0200
TZNAME:CEST
DTSTART:20240331T010000
END:DAYLIGHT
BEGIN:STANDARD
TZOFFSETFROM:+0200
TZOFFSETTO:+0100
TZNAME:CET
DTSTART:20241027T010000
END:STANDARD
END:VTIMEZONE
BEGIN:VEVENT
DTSTART;TZID=Europe/Amsterdam:20230406T100000
DTEND;TZID=Europe/Amsterdam:20230406T120000
DTSTAMP:20260421T202144
CREATED:20230330T102736Z
LAST-MODIFIED:20230406T075349Z
UID:53391-1680775200-1680782400@vgm.nl
SUMMARY:Webinar: Prijsplafond voor blokaansluitingen verplaatst naar 20 april 2023
DESCRIPTION:Op donderdag 6 april 2023 om 10.00 uur organiseren VGM NL en VvE Belang het gratis webinar: Prijsplafond voor blokaansluitingen speciaal voor aangesloten VvE-managers. \n\n\n\nIn verband met de ontwikkelingen rondom de subsidieregeling is dit webinar verplaatst naar donderdag 20 april 2023.
URL:https://vgm.nl/evenement/webinar-prijsplafond-voor-blokaansluitingen/
CATEGORIES:VGM NL Kennisbijeenkomst
END:VEVENT
BEGIN:VEVENT
DTSTART;TZID=Europe/Amsterdam:20230414T103000
DTEND;TZID=Europe/Amsterdam:20230414T120000
DTSTAMP:20260421T202144
CREATED:20230227T153107Z
LAST-MODIFIED:20230406T075503Z
UID:53186-1681468200-1681473600@vgm.nl
SUMMARY:VGM NL Werkgroepbijeenkomst COG
DESCRIPTION:Locatie: VGM NL Utrecht
URL:https://vgm.nl/evenement/vgm-nl-werkgroepbijeenkomst-cog-6/
CATEGORIES:VGM NL Werkgroepbijeenkomst
END:VEVENT
BEGIN:VEVENT
DTSTART;TZID=Europe/Amsterdam:20230419T093000
DTEND;TZID=Europe/Amsterdam:20230419T113000
DTSTAMP:20260421T202144
CREATED:20230109T105538Z
LAST-MODIFIED:20230109T105539Z
UID:52881-1681896600-1681903800@vgm.nl
SUMMARY:VGM NL Bestuursvergadering
DESCRIPTION:
URL:https://vgm.nl/evenement/vgm-nl-bestuursvergadering-13/
CATEGORIES:VGM NL Vergadering
END:VEVENT
BEGIN:VEVENT
DTSTART;TZID=Europe/Amsterdam:20230420T093000
DTEND;TZID=Europe/Amsterdam:20230420T113000
DTSTAMP:20260421T202144
CREATED:20230330T132957Z
LAST-MODIFIED:20230330T133000Z
UID:53397-1681983000-1681990200@vgm.nl
SUMMARY:Webinar Prijsplafond voor blokaansluitingen
DESCRIPTION:Op donderdag 20 april 2023 om 09.30 uur organiseren VGM NL en VvE Belang het webinar: Prijsplafond voor blokaansluitingen speciaal voor aangesloten VvE-managers. Leden zijn van harte uitgenodigd! \n\n\n\nAls VvE-manager wordt u betrokken bij vragen over deze subsidieregeling. Het kan ook zijn dat u namens de VvE’s de subsidie aanvraagt. In het webinar nemen wij u mee in de ins en de outs van de regeling\, de wijze van verrekening en informeren wij u over de aanvraagprocedure. Ook voor verhuurders van woningen met een blokaansluiting is dit webinar interessant! \n\n\n\n\n\nMeer informatie over de subsidieregeling>>
URL:https://vgm.nl/evenement/webinar-prijsplafond-voor-blokaansluitingen-2/
CATEGORIES:VGM NL Kennisbijeenkomst
END:VEVENT
END:VCALENDAR